BEGIN:VCALENDAR
VERSION:2.0
PRODID:-//https://www.ikma.edu.my///NONSGML kigkonsult.se iCalcreator 2.10.15//
METHOD:PUBLISH
BEGIN:VEVENT
UID:20260420T141911UTC-9523N4v7nT@https://www.ikma.edu.my/
DTSTAMP:20260420T141911Z
DESCRIPTION:\nMemahami piawaian perakaunan dan tatacara yang perlu dipatuhi
  oleh koperasi mengikut Akta Koperasi 1993 dan menilai kandungan penyata k
 ewangan berdasarkan piawaian dan tatacara yang ditetapkan.\n https://www.i
 kma.edu.my/en/takwim-program/event/538-piawaian-pelaporan-perakaunan-koper
 asi-lawas-caw-miri
DTSTART:20261006T080000Z
DTEND:20261007T170000Z
LOCATION:IKMa Lawas ()
SUMMARY:PIAWAIAN PELAPORAN PERAKAUNAN KOPERASI @ LAWAS - CAW MIRI
URL:https://www.ikma.edu.my/en/takwim-program/event/538-piawaian-pelaporan-
 perakaunan-koperasi-lawas-caw-miri
END:VEVENT
END:VCALENDAR
